BEGIN:VCALENDAR
VERSION:2.0
PRODID:-//Mennoniten Brüdergemeinde Albisheim - ECPv6.15.20//NONSGML v1.0//EN
CALSCALE:GREGORIAN
METHOD:PUBLISH
X-ORIGINAL-URL:https://mbg-albisheim.de
X-WR-CALDESC:Veranstaltungen für Mennoniten Brüdergemeinde Albisheim
REFRESH-INTERVAL;VALUE=DURATION:PT1H
X-Robots-Tag:noindex
X-PUBLISHED-TTL:PT1H
BEGIN:VTIMEZONE
TZID:Europe/Berlin
BEGIN:DAYLIGHT
TZOFFSETFROM:+0100
TZOFFSETTO:+0200
TZNAME:CEST
DTSTART:20220327T010000
END:DAYLIGHT
BEGIN:STANDARD
TZOFFSETFROM:+0200
TZOFFSETTO:+0100
TZNAME:CET
DTSTART:20221030T010000
END:STANDARD
BEGIN:DAYLIGHT
TZOFFSETFROM:+0100
TZOFFSETTO:+0200
TZNAME:CEST
DTSTART:20230326T010000
END:DAYLIGHT
BEGIN:STANDARD
TZOFFSETFROM:+0200
TZOFFSETTO:+0100
TZNAME:CET
DTSTART:20231029T010000
END:STANDARD
BEGIN:DAYLIGHT
TZOFFSETFROM:+0100
TZOFFSETTO:+0200
TZNAME:CEST
DTSTART:20240331T010000
END:DAYLIGHT
BEGIN:STANDARD
TZOFFSETFROM:+0200
TZOFFSETTO:+0100
TZNAME:CET
DTSTART:20241027T010000
END:STANDARD
BEGIN:DAYLIGHT
TZOFFSETFROM:+0100
TZOFFSETTO:+0200
TZNAME:CEST
DTSTART:20250330T010000
END:DAYLIGHT
BEGIN:STANDARD
TZOFFSETFROM:+0200
TZOFFSETTO:+0100
TZNAME:CET
DTSTART:20251026T010000
END:STANDARD
BEGIN:DAYLIGHT
TZOFFSETFROM:+0100
TZOFFSETTO:+0200
TZNAME:CEST
DTSTART:20260329T010000
END:DAYLIGHT
BEGIN:STANDARD
TZOFFSETFROM:+0200
TZOFFSETTO:+0100
TZNAME:CET
DTSTART:20261025T010000
END:STANDARD
BEGIN:DAYLIGHT
TZOFFSETFROM:+0100
TZOFFSETTO:+0200
TZNAME:CEST
DTSTART:20270328T010000
END:DAYLIGHT
BEGIN:STANDARD
TZOFFSETFROM:+0200
TZOFFSETTO:+0100
TZNAME:CET
DTSTART:20271031T010000
END:STANDARD
END:VTIMEZONE
BEGIN:VEVENT
DTSTART;TZID=Europe/Berlin:20260404T170000
DTEND;TZID=Europe/Berlin:20260404T190000
DTSTAMP:20260421T120521
CREATED:20260307T102735Z
LAST-MODIFIED:20260307T102735Z
UID:1759-1775322000-1775329200@mbg-albisheim.de
SUMMARY:Passionssingen 2026
DESCRIPTION:Wir laden Sie herzlich zum Passionssingen ein! Es handelt sich um ein Konzert zu Karfreitag und Ostern. Es erwarten Sie Passionslieder und die Passionsgeschichte sowie eine Ansprache.\n\n\n\nDer Eintritt ist frei.
URL:https://mbg-albisheim.de/event/passionssingen-2026/
LOCATION:Mennoniten-Brüder-Gemeinde Albisheim\, Haupstraße 22\, Albisheim\, Rheinland-Pfalz\, 67308\, Germany
END:VEVENT
BEGIN:VEVENT
DTSTART;TZID=Europe/Berlin:20251207T170000
DTEND;TZID=Europe/Berlin:20251207T190000
DTSTAMP:20260421T120521
CREATED:20251024T205223Z
LAST-MODIFIED:20251215T073709Z
UID:1710-1765126800-1765134000@mbg-albisheim.de
SUMMARY:Adventssingen 2025
DESCRIPTION:Wir laden Sie herzlich zu unserem jährlichen Adventssingen ein! Es erwarten Sie Advents- und Weihnachtslieder sowie eine Ansprache. Wir freuen uns auf Ihr Kommen! \n\n\n\nDer Eintritt ist frei. \nHier können Sie das Adventssingen nachhören.
URL:https://mbg-albisheim.de/event/adventssingen-2025/
LOCATION:Mennoniten-Brüder-Gemeinde Albisheim\, Haupstraße 22\, Albisheim\, Rheinland-Pfalz\, 67308\, Germany
END:VEVENT
BEGIN:VEVENT
DTSTART;TZID=Europe/Berlin:20250711T133000
DTEND;TZID=Europe/Berlin:20250711T190000
DTSTAMP:20260421T120521
CREATED:20250228T161258Z
LAST-MODIFIED:20250228T161258Z
UID:1590-1752240600-1752260400@mbg-albisheim.de
SUMMARY:Albikita Tag 4
DESCRIPTION:Die Albisheimer Kindertage sind eine kostenlose christliche Freizeit für Kinder zwischen 6 und 13 Jahren. \nSie können Ihr Kind gerne anmelden.
URL:https://mbg-albisheim.de/event/albikita-2025-tag-4/
LOCATION:Spielplatz Albisheim\, Am Karolingerweg\, Albisheim\, Rheinland-Pfalz\, 67308\, Germany
END:VEVENT
BEGIN:VEVENT
DTSTART;TZID=Europe/Berlin:20250710T133000
DTEND;TZID=Europe/Berlin:20250710T180000
DTSTAMP:20260421T120521
CREATED:20250228T161056Z
LAST-MODIFIED:20250228T161128Z
UID:1587-1752154200-1752170400@mbg-albisheim.de
SUMMARY:Albikita Tag 3
DESCRIPTION:Die Albisheimer Kindertage sind eine kostenlose christliche Freizeit für Kinder zwischen 6 und 13 Jahren. \nSie können Ihr Kind gerne anmelden.
URL:https://mbg-albisheim.de/event/albikita-2025-tag-3/
LOCATION:Spielplatz Albisheim\, Am Karolingerweg\, Albisheim\, Rheinland-Pfalz\, 67308\, Germany
END:VEVENT
BEGIN:VEVENT
DTSTART;TZID=Europe/Berlin:20250709T133000
DTEND;TZID=Europe/Berlin:20250709T180000
DTSTAMP:20260421T120521
CREATED:20250228T160920Z
LAST-MODIFIED:20250228T160952Z
UID:1584-1752067800-1752084000@mbg-albisheim.de
SUMMARY:Albikita Tag 2
DESCRIPTION:Die Albisheimer Kindertage sind eine kostenlose christliche Freizeit für Kinder zwischen 6 und 13 Jahren. \nSie können Ihr Kind gerne anmelden.
URL:https://mbg-albisheim.de/event/albikita-2025-tag-2/
LOCATION:Spielplatz Albisheim\, Am Karolingerweg\, Albisheim\, Rheinland-Pfalz\, 67308\, Germany
END:VEVENT
BEGIN:VEVENT
DTSTART;TZID=Europe/Berlin:20250708T133000
DTEND;TZID=Europe/Berlin:20250708T180000
DTSTAMP:20260421T120521
CREATED:20250228T160757Z
LAST-MODIFIED:20250228T160757Z
UID:1580-1751981400-1751997600@mbg-albisheim.de
SUMMARY:Albikita Tag 1
DESCRIPTION:Die Albisheimer Kindertage sind eine kostenlose christliche Freizeit für Kinder zwischen 6 und 13 Jahren. \nSie können Ihr Kind gerne anmelden.
URL:https://mbg-albisheim.de/event/albikita-2025-tag-1/
LOCATION:Spielplatz Albisheim\, Am Karolingerweg\, Albisheim\, Rheinland-Pfalz\, 67308\, Germany
END:VEVENT
BEGIN:VEVENT
DTSTART;TZID=Europe/Berlin:20250419T170000
DTEND;TZID=Europe/Berlin:20250419T190000
DTSTAMP:20260421T120521
CREATED:20250228T160405Z
LAST-MODIFIED:20250228T160500Z
UID:1576-1745082000-1745089200@mbg-albisheim.de
SUMMARY:Passionssingen
DESCRIPTION:Wir laden Sie herzlich zum Passionssingen ein! Es handelt sich um ein Konzert zu Karfreitag und Ostern. Es erwarten Sie Passionslieder und die Passionsgeschichte sowie eine Ansprache. \n\n\n\nDer Eintritt ist frei.
URL:https://mbg-albisheim.de/event/passionssingen-2025/
LOCATION:Mennoniten-Brüder-Gemeinde Albisheim\, Haupstraße 22\, Albisheim\, Rheinland-Pfalz\, 67308\, Germany
END:VEVENT
BEGIN:VEVENT
DTSTART;VALUE=DATE:20240521
DTEND;VALUE=DATE:20240525
DTSTAMP:20260421T120521
CREATED:20240120T222348Z
LAST-MODIFIED:20240511T210945Z
UID:1415-1716249600-1716595199@mbg-albisheim.de
SUMMARY:Albikita 2024
DESCRIPTION:Die Albikita ist eine christliche Freizeit für Kinder zwischen 6 und 13 Jahren. \nSie können Ihr Kind gerne anmelden. \nDie Freizeit findet um jeweils 13:30-18:00 Uhr auf dem Spielplatz in Albisheim statt.\nAm Abend des 24.05.2024 wird es ab 18:00 Uhr eine gemeinsame Abschlussfeier mit den Eltern und Open End eingeladen. Für Essen und Getränke ist gesorgt!
URL:https://mbg-albisheim.de/event/albikita-2024/
LOCATION:Spielplatz Albisheim\, Am Karolingerweg\, Albisheim\, Rheinland-Pfalz\, 67308\, Germany
END:VEVENT
BEGIN:VEVENT
DTSTART;TZID=Europe/Berlin:20240330T170000
DTEND;TZID=Europe/Berlin:20240330T190000
DTSTAMP:20260421T120521
CREATED:20240120T222634Z
LAST-MODIFIED:20250228T160222Z
UID:1428-1711818000-1711825200@mbg-albisheim.de
SUMMARY:Passionssingen 2024
DESCRIPTION:Wir laden Sie herzlich zum Passionssingen ein! Es handelt sich um ein Konzert zu Karfreitag und Ostern. Es erwarten Sie Passionslieder und die Passionsgeschichte sowie eine Ansprache. \n\n\n\nDer Eintritt ist frei.
URL:https://mbg-albisheim.de/event/passionssingen-2024/
LOCATION:Mennoniten-Brüder-Gemeinde Albisheim\, Haupstraße 22\, Albisheim\, Rheinland-Pfalz\, 67308\, Germany
ATTACH;FMTTYPE=image/jpeg:https://mbg-albisheim.de/wp-content/uploads/2024/01/EinladungPS24-A4-scaled.jpg
END:VEVENT
BEGIN:VEVENT
DTSTART;TZID=Europe/Berlin:20231210T170000
DTEND;TZID=Europe/Berlin:20231210T190000
DTSTAMP:20260421T120521
CREATED:20231125T113504Z
LAST-MODIFIED:20231216T152120Z
UID:1378-1702227600-1702234800@mbg-albisheim.de
SUMMARY:Adventssingen
DESCRIPTION:Wir laden Sie herzlich zu unserem jährlichen Adventssingen ein! \nEs erwarten Sie Advents- und Weihnachtslieder sowie eine Ansprache. Wir freuen uns auf Ihr Kommen! \n\n\n\nDer Eintritt ist frei.
URL:https://mbg-albisheim.de/event/adventssingen-23/
LOCATION:Mennoniten-Brüder-Gemeinde Albisheim\, Haupstraße 22\, Albisheim\, Rheinland-Pfalz\, 67308\, Germany
END:VEVENT
BEGIN:VEVENT
DTSTART;TZID=Europe/Berlin:20230602T133000
DTEND;TZID=Europe/Berlin:20230602T200000
DTSTAMP:20260421T120521
CREATED:20230418T151915Z
LAST-MODIFIED:20240120T221129Z
UID:1302-1685712600-1685736000@mbg-albisheim.de
SUMMARY:Albikita Tag 3
DESCRIPTION:Die Albisheimer Kindertage sind eine kostenlose christliche Freizeit für Kinder zwischen 6 und 13 Jahren. \nSie können Ihr Kind gerne anmelden.
URL:https://mbg-albisheim.de/event/albikita-2023-tag-3/
LOCATION:Mennoniten-Brüder-Gemeinde Albisheim\, Haupstraße 22\, Albisheim\, Rheinland-Pfalz\, 67308\, Germany
END:VEVENT
BEGIN:VEVENT
DTSTART;TZID=Europe/Berlin:20230601T133000
DTEND;TZID=Europe/Berlin:20230601T180000
DTSTAMP:20260421T120521
CREATED:20230418T151623Z
LAST-MODIFIED:20240120T221109Z
UID:1300-1685626200-1685642400@mbg-albisheim.de
SUMMARY:Albikita Tag 2
DESCRIPTION:Die Albisheimer Kindertage sind eine kostenlose christliche Freizeit für Kinder zwischen 6 und 13 Jahren. \nSie können Ihr Kind gerne anmelden.
URL:https://mbg-albisheim.de/event/albikita-2023-tag-2/
LOCATION:Mennoniten-Brüder-Gemeinde Albisheim\, Haupstraße 22\, Albisheim\, Rheinland-Pfalz\, 67308\, Germany
END:VEVENT
BEGIN:VEVENT
DTSTART;TZID=Europe/Berlin:20230531T133000
DTEND;TZID=Europe/Berlin:20230531T180000
DTSTAMP:20260421T120521
CREATED:20230418T151432Z
LAST-MODIFIED:20250228T160623Z
UID:1298-1685539800-1685556000@mbg-albisheim.de
SUMMARY:Albikita 2023 Tag 1
DESCRIPTION:Die Albisheimer Kindertage sind eine kostenlose christliche Freizeit für Kinder zwischen 6 und 13 Jahren. \nSie können Ihr Kind gerne anmelden.
URL:https://mbg-albisheim.de/event/albikita-2023-tag-1/
LOCATION:Mennoniten-Brüder-Gemeinde Albisheim\, Haupstraße 22\, Albisheim\, Rheinland-Pfalz\, 67308\, Germany
END:VEVENT
BEGIN:VEVENT
DTSTART;TZID=Europe/Berlin:20230408T170000
DTEND;TZID=Europe/Berlin:20230408T190000
DTSTAMP:20260421T120521
CREATED:20230401T214226Z
LAST-MODIFIED:20240120T222435Z
UID:1254-1680973200-1680980400@mbg-albisheim.de
SUMMARY:Passionssingen 2023
DESCRIPTION:Wir laden Sie herzlich zum Passionssingen ein!Es handelt sich um ein Konzert zu Karfreitag und Ostern. Es erwarten Sie Passionslieder und die Passionsgeschichte sowie eine Ansprache. \n\n\n\nDer Eintritt ist frei.
URL:https://mbg-albisheim.de/event/passionssingen-2023/
LOCATION:Mennoniten-Brüder-Gemeinde Albisheim\, Haupstraße 22\, Albisheim\, Rheinland-Pfalz\, 67308\, Germany
ATTACH;FMTTYPE=image/jpeg:https://mbg-albisheim.de/wp-content/uploads/2023/03/Passionssingen_01-e1680459469594.jpeg
END:VEVENT
END:VCALENDAR