BEGIN:VCALENDAR
VERSION:2.0
PRODID:-//Mennoniten Brüdergemeinde Albisheim - ECPv6.15.20//NONSGML v1.0//EN
CALSCALE:GREGORIAN
METHOD:PUBLISH
X-WR-CALNAME:Mennoniten Brüdergemeinde Albisheim
X-ORIGINAL-URL:https://mbg-albisheim.de
X-WR-CALDESC:Veranstaltungen für Mennoniten Brüdergemeinde Albisheim
REFRESH-INTERVAL;VALUE=DURATION:PT1H
X-Robots-Tag:noindex
X-PUBLISHED-TTL:PT1H
BEGIN:VTIMEZONE
TZID:Europe/Berlin
BEGIN:DAYLIGHT
TZOFFSETFROM:+0100
TZOFFSETTO:+0200
TZNAME:CEST
DTSTART:20250330T010000
END:DAYLIGHT
BEGIN:STANDARD
TZOFFSETFROM:+0200
TZOFFSETTO:+0100
TZNAME:CET
DTSTART:20251026T010000
END:STANDARD
BEGIN:DAYLIGHT
TZOFFSETFROM:+0100
TZOFFSETTO:+0200
TZNAME:CEST
DTSTART:20260329T010000
END:DAYLIGHT
BEGIN:STANDARD
TZOFFSETFROM:+0200
TZOFFSETTO:+0100
TZNAME:CET
DTSTART:20261025T010000
END:STANDARD
BEGIN:DAYLIGHT
TZOFFSETFROM:+0100
TZOFFSETTO:+0200
TZNAME:CEST
DTSTART:20270328T010000
END:DAYLIGHT
BEGIN:STANDARD
TZOFFSETFROM:+0200
TZOFFSETTO:+0100
TZNAME:CET
DTSTART:20271031T010000
END:STANDARD
END:VTIMEZONE
BEGIN:VEVENT
DTSTART;TZID=Europe/Berlin:20260630T133000
DTEND;TZID=Europe/Berlin:20260630T180000
DTSTAMP:20260421T104035
CREATED:20260307T103011Z
LAST-MODIFIED:20260307T103011Z
UID:1761-1782826200-1782842400@mbg-albisheim.de
SUMMARY:Albikita Tag 1
DESCRIPTION:Die Albisheimer Kindertage sind eine kostenlose christliche Freizeit für Kinder zwischen 6 und 13 Jahren. \nSie können Ihr Kind gerne anmelden.
URL:https://mbg-albisheim.de/event/albikita-2026-tag-1/
LOCATION:Mennoniten-Brüder-Gemeinde Albisheim\, Haupstraße 22\, Albisheim\, Rheinland-Pfalz\, 67308\, Germany
END:VEVENT
BEGIN:VEVENT
DTSTART;TZID=Europe/Berlin:20260701T133000
DTEND;TZID=Europe/Berlin:20260701T180000
DTSTAMP:20260421T104035
CREATED:20260307T103121Z
LAST-MODIFIED:20260307T103121Z
UID:1763-1782912600-1782928800@mbg-albisheim.de
SUMMARY:Albikita Tag 2
DESCRIPTION:Die Albisheimer Kindertage sind eine kostenlose christliche Freizeit für Kinder zwischen 6 und 13 Jahren. \nSie können Ihr Kind gerne anmelden.
URL:https://mbg-albisheim.de/event/albikita-2026-tag-2/
LOCATION:Spielplatz Albisheim\, Am Karolingerweg\, Albisheim\, Rheinland-Pfalz\, 67308\, Germany
END:VEVENT
BEGIN:VEVENT
DTSTART;TZID=Europe/Berlin:20260702T133000
DTEND;TZID=Europe/Berlin:20260702T180000
DTSTAMP:20260421T104035
CREATED:20260307T103221Z
LAST-MODIFIED:20260307T103221Z
UID:1765-1782999000-1783015200@mbg-albisheim.de
SUMMARY:Albikita Tag 3
DESCRIPTION:Die Albisheimer Kindertage sind eine kostenlose christliche Freizeit für Kinder zwischen 6 und 13 Jahren. \nSie können Ihr Kind gerne anmelden.
URL:https://mbg-albisheim.de/event/albikita-2026-tag-3/
LOCATION:Spielplatz Albisheim\, Am Karolingerweg\, Albisheim\, Rheinland-Pfalz\, 67308\, Germany
END:VEVENT
BEGIN:VEVENT
DTSTART;TZID=Europe/Berlin:20260703T133000
DTEND;TZID=Europe/Berlin:20260703T210000
DTSTAMP:20260421T104035
CREATED:20260307T103308Z
LAST-MODIFIED:20260307T110543Z
UID:1767-1783085400-1783112400@mbg-albisheim.de
SUMMARY:Albikita Tag 4
DESCRIPTION:Die Albisheimer Kindertage sind eine kostenlose christliche Freizeit für Kinder zwischen 6 und 13 Jahren. \nSie können Ihr Kind gerne anmelden.
URL:https://mbg-albisheim.de/event/albikita-2026-tag-4/
LOCATION:Spielplatz Albisheim\, Am Karolingerweg\, Albisheim\, Rheinland-Pfalz\, 67308\, Germany
END:VEVENT
BEGIN:VEVENT
DTSTART;TZID=Europe/Berlin:20260720T133000
DTEND;TZID=Europe/Berlin:20260724T173000
DTSTAMP:20260421T104035
CREATED:20260407T160939Z
LAST-MODIFIED:20260407T161128Z
UID:1829-1784554200-1784914200@mbg-albisheim.de
SUMMARY:Musikalische Projektwoche
DESCRIPTION:Für alle Schüler\, die Sommerferien haben.
URL:https://mbg-albisheim.de/event/musikalische-projektwoche/
LOCATION:Mennoniten-Brüder-Gemeinde Albisheim\, Haupstraße 22\, Albisheim\, Rheinland-Pfalz\, 67308\, Germany
END:VEVENT
END:VCALENDAR